Workbook

Sheet Приложение 1
L2: ПРИЛОЖЕНИЕ
L3: к постановлению администрации
L4: муниципального образования
L5: Северский район
L6: от _____ ___________ 2019 г. № __________
L8: «ПРИЛОЖЕНИЕ
L10: УТВЕРЖДЕН
L11: постановлением администрации
L12: муниципального образования
L13: Северский район
L14: от 09.11.2017 г. № 1568
A16: Краткосрочный план реализации Региональной программы капитального ремонта общего имущества собственников помещений в многоквартирных домах
B17: по плановому периоду 2017-2019 годов (этап 2018 года), расположенных на территории муниципального образования Северский район
A19: Раздел 1. ПРОГНОЗНЫЙ СПИСОК
A20: многоквартирных домов для рассмотрения вопроса о включении в региональный
A21: краткосрочный план по плановому периоду 2017 - 2019 годов (этап 2018 года) на территории муниципального образования Северский район
A23: № п/п | B23: Почтовый адрес многоквартирного дома (далее - МКД) с указанием населенного пункта | C23: Год ввода в эксплуатацию | D23: Количество | F23: Общая площадь МКД | G23: Количество граждан, зарегистрированных по месту жительства в МКД | H23: Стоимость услуг (работ) по капитальному ремонту | R23: Планируемый срок завершения работ (квартал, год) 3) | S23: Способ формирования фонда
H24: всего (сумма показателей граф 10 - 17) | I24: в том числе: | Q24: удельная (гр.9/гр.7)
D25: этажей | E25: подъездов | I25: средства фонда капитального ремонта данного МКД, включающего в себя взносы и пени | J25: дополнительные взносы | K25: прогнозируемый объем поступления взносов в текущем году | L25: заимствованные средства | M25: заемные и кредитные средства | N25: средства государственной поддержки | P25: средства муниципальной поддержки
N26: Российской Федерации | O26: Краснодарского края
D27: ед. | E27: ед. | F27: кв. м | G27: чел. | H27: руб. | I27: руб. | J27: руб. | K27: руб. | L27: руб. | M27: руб. | N27: руб. | O27: руб. | P27: руб. | Q27: (руб./кв.м)
A28: 1 | B28: 2 | C28: 3 | D28: 4 | E28: 5 | F28: 6 | G28: 7 | H28: 8 | I28: 9 | J28: 10 | K28: 11 | L28: 12 | M28: 13 | N28: 14 | O28: 15 | P28: 16 | Q28: 17 | R28: 18 | S28: 19
A29: Всего по муниципальному образованию Северский район | C29: Х | D29: Х | E29: Х | F29: =SUM(F30:F47) -> 28780.7 | G29: =SUM(G30:G47) -> 785 | H29: =SUM(H30:H47) -> 16126511 | I29: =SUM(I30:I47) -> 3701995.9 | J29: =SUM(J30:J47) -> 0 | K29: =SUM(K30:K47) -> 1372013.9 | L29: =SUM(L30:L47) -> 11052501 | M29: =SUM(M30:M47) -> 0 | ... P29: =SUM(P30:P47) -> 0 | Q29: =H29/F29 -> 560.32379 | R29: Х | S29: Х
A30: 1 | B30: Северский район, пгт. Ильский, ул. Партизанская, д. 126 В | C30: 1974 | D30: 2 | E30: 3 | F30: 757.6 | G30: 27 | H30: ='Приложение 2'!C16+'Приложение 3'!C15 -> 920498 | I30: 87889.27 | J30: 0 | K30: 40564.03 | L30: =H30-I30-K30 -> 792044.7 | M30: 0 | N30: 0 | O30: 0 | P30: 0 | Q30: =H30/F30 -> 1215.0185 | R30: III квартал 2019 | S30: р/о
A31: 2 | B31: Северский район, пгт. Ильский, ул. Первомайская, д. 50 А | C31: 1974 | D31: 3 | E31: 3 | F31: 1156.6 | G31: 34 | H31: ='Приложение 2'!C17+'Приложение 3'!C16 -> 284167 | I31: 131841.58 | J31: 0 | K31: 60849.89 | L31: =H31-I31-K31 -> 91475.53 | M31: 0 | N31: 0 | O31: 0 | P31: 0 | Q31: =H31/F31 -> 245.69168 | R31: II квартал 2019 | S31: р/о
A32: 3 | B32: Северский район, пгт. Афипский, ул. Ленина, д. 2 | C32: 1959 | D32: 2 | E32: 1 | F32: 490.3 | G32: 18 | H32: ='Приложение 2'!C18+'Приложение 3'!C17 -> 441451 | I32: 33985.11 | J32: 0 | K32: 15685.44 | L32: =H32-I32-K32 -> 391780.45 | M32: 0 | N32: 0 | O32: 0 | P32: 0 | Q32: =H32/F32 -> 900.36916 | R32: II квартал 2019 | S32: р/о
A33: 4 | B33: Северский район, пгт. Афипский, ул. Победы, д. 4 | C33: 1981 | D33: 9 | E33: 1 | F33: 3334 | G33: 70 | H33: ='Приложение 2'!C19+'Приложение 3'!C18 -> 1917234.5 | I33: 564590.6 | J33: 0 | K33: 178291.54 | L33: =H33-I33-K33 -> 1174352.3 | M33: 0 | N33: 0 | O33: 0 | P33: 0 | Q33: =H33/F33 -> 575.05533 | R33: II квартал 2019 | S33: р/о
A34: 5 | B34: Северский район, пгт. Афипский, ул. Победы, д. 6 | C34: 1987 | D34: 9 | E34: 1 | F34: 3334 | G34: 70 | H34: ='Приложение 2'!C20+'Приложение 3'!C19 -> 1924678 | I34: 524928.22 | J34: 0 | K34: 165766.43 | L34: =H34-I34-K34 -> 1233983.4 | M34: 0 | N34: 0 | O34: 0 | P34: 0 | Q34: =H34/F34 -> 577.28795 | R34: II квартал 2019 | S34: р/о
A35: 6 | B35: Северский район, пгт. Афипский, ул. Пушкина, д. 148 | C35: 1989 | D35: 9 | E35: 1 | F35: 4869.5 | G35: 80 | H35: ='Приложение 2'!C21+'Приложение 3'!C20 -> 1907053.2 | I35: 542061.53 | J35: 0 | K35: 171177.39 | L35: =H35-I35-K35 -> 1193814.3 | M35: 0 | N35: 0 | O35: 0 | P35: 0 | Q35: =H35/F35 -> 391.63224 | R35: II квартал 2019 | S35: р/о
A36: 7 | B36: Северский район, п. Октябрьский, ул. Горького, д. 8 | C36: 1963 | D36: 2 | E36: 3 | F36: 564 | G36: 19 | H36: ='Приложение 2'!C22+'Приложение 3'!C21 -> 574646 | I36: 76572.19 | J36: 0 | K36: 35341.13 | L36: =H36-I36-K36 -> 462732.68 | M36: 0 | N36: 0 | O36: 0 | P36: 0 | Q36: =H36/F36 -> 1018.8759 | R36: II квартал 2019 | S36: р/о
A37: 8 | B37: Северский район, п. Октябрьский ул. Горького, д. 6 | C37: 1963 | D37: 2 | E37: 3 | F37: 556 | G37: 21 | H37: ='Приложение 2'!C23+'Приложение 3'!C22 -> 525977 | I37: 61188.77 | J37: 0 | K37: 28241.07 | L37: =H37-I37-K37 -> 436547.16 | M37: 0 | N37: 0 | O37: 0 | P37: 0 | Q37: =H37/F37 -> 946.0018 | R37: II квартал 2019 | S37: р/о
A38: 9 | B38: Северский район, пгт. Черноморский, ул. Кавказская, д. 9 | C38: 1964 | D38: 2 | E38: 2 | F38: 612 | G38: 29 | H38: ='Приложение 2'!C24+'Приложение 3'!C23 -> 464028.4 | I38: 79404.74 | J38: 0 | K38: 36648.39 | L38: =H38-I38-K38 -> 347975.27 | M38: 0 | N38: 0 | O38: 0 | P38: 0 | Q38: =H38/F38 -> 758.21634 | R38: III квартал 2019 | S38: р/о
A39: 10 | B39: Северский район, пгт. Черноморский, ул. Кавказская, д. 10 | C39: 1964 | D39: 2 | E39: 2 | F39: 624 | G39: 19 | H39: ='Приложение 2'!C25+'Приложение 3'!C24 -> 282551.2 | I39: 50173.78 | J39: 0 | K39: 23134.59 | L39: =H39-I39-K39 -> 209242.83 | M39: 0 | N39: 0 | O39: 0 | P39: 0 | Q39: =H39/F39 -> 452.80641 | R39: II квартал 2019 | S39: р/о
A40: 11 | B40: Северский район, пгт. Черноморский, ул. Мира, д. 52 | C40: 1964 | D40: 2 | E40: 2 | F40: 612 | G40: 11 | H40: ='Приложение 2'!C26+'Приложение 3'!C25 -> 451780 | I40: 40666.63 | J40: 0 | K40: 21118.31 | L40: =H40-I40-K40 -> 389995.06 | M40: 0 | N40: 0 | O40: 0 | P40: 0 | Q40: =H40/F40 -> 738.20261 | R40: II квартал 2019 | S40: р/о
A41: 12 | B41: Северский район, пгт. Черноморский, ул. Мира, д. 46 | C41: 1952 | D41: 2 | E41: 2 | F41: 380 | G41: 12 | H41: ='Приложение 2'!C27+'Приложение 3'!C26 -> 426901 | I41: 37323 | J41: 0 | K41: 17225.95 | L41: =H41-I41-K41 -> 372352.05 | M41: 0 | N41: 0 | O41: 0 | P41: 0 | Q41: =H41/F41 -> 1123.4237 | R41: II квартал 2019 | S41: р/о
... A45: 16 | B45: Северский район, ст-ца Северская, ул. Запорожская, д. 36 | C45: 1980 | D45: 3 | E45: 3 | F45: 1395.2 | G45: 41 | H45: ='Приложение 2'!C31+'Приложение 3'!C30 -> 1136173 | I45: 131763.52 | J45: 0 | K45: 60813.64 | L45: =H45-I45-K45 -> 943595.84 | M45: 0 | N45: 0 | O45: 0 | P45: 0 | Q45: =H45/F45 -> 814.34418 | R45: II квартал 2019 | S45: р/о
A46: 17 | B46: Северский район, ст-ца Северская, ул. Запорожская, д. 52 | C46: 1982 | D46: 5 | E46: 8 | F46: 6131.6 | G46: 174 | H46: ='Приложение 2'!C32+'Приложение 3'!C31 -> 1097205.6 | I46: 819909.9 | J46: 0 | K46: 277295.7 | L46: 0 | M46: 0 | N46: 0 | O46: 0 | P46: 0 | Q46: =H46/F46 -> 178.94279 | R46: II квартал 2019 | S46: р/о
A47: 18 | B47: Северский район, ст-ца Северская, ул. 50 лет Октября, д. 41 | C47: 1975 | D47: 5 | E47: 4 | F47: 2359.9 | G47: 92 | H47: ='Приложение 2'!C33+'Приложение 3'!C32 -> 2031862 | I47: 374382 | J47: 0 | K47: 172791.86 | L47: =H47-I47-K47 -> 1484688.1 | M47: 0 | N47: 0 | O47: 0 | P47: 0 | Q47: =H47/F47 -> 860.99496 | R47: II квартал 2019 | S47: р/о

Sheet Приложение 2
A4: Раздел 2. ПРОГНОЗНЫЙ СПИСОК
A5: многоквартирных домов для рассмотрения вопроса о включении в региональный краткосрочный план по плановому периоду 2017 - 2019 годов (этап 2018 года) по видам работ, установленным
A6: частью 1 (с учетом положений части 5) статьи 166 Жилищного кодекса Российской Федерации,
A7: на территории Северского района
A9: № п/п | B9: Почтовый адрес многоквартирного дома (далее - МКД) с указанием населенного пункта | C9: Стоимость работ по капитальному ремонту всего (сумма показателей граф 4,13, 15, 17, 19, 21) 2) | D9: Виды работ, установленные частью 1 (с учетом положений части 5) статьи 166 Жилищного кодекса Российской Федерации
D10: ремонт внутридомовых инженерных систем | L10: ремонт или замена лифтового оборудования | N10: ремонт крыши | P10: ремонт подвальных помещений | R10: ремонт фасада | T10: ремонт фундамента
D11: всего (сумма показателей граф 5 - 11) 2) | E11: в том числе:
E12: электроснабжения 2) | F12: холодного водоснабжения 2) | G12: в том числе противопожарного водопровода 2) | H12: водоотведения 2) | I12: газоснабжения 2) | J12: теплоснабжения 2) | K12: горячего водоснабжения 2)
C13: руб. | D13: руб. | E13: руб. | F13: руб. | G13: руб. | H13: руб. | I13: руб. | J13: руб. | K13: руб. | L13: ед. | M13: руб.2) | N13: кв. м | O13: руб.2) | P13: кв. м | Q13: руб.2) | R13: кв. м | S13: руб.2) | T13: кв. м | U13: руб.2)
A14: 1 | B14: 2 | C14: 3 | D14: 4 | E14: 5 | F14: 6 | G14: 7 | H14: 8 | I14: 9 | J14: 10 | K14: 11 | L14: 12 | M14: 13 | N14: 14 | O14: 15 | P14: 16 | Q14: 17 | R14: 18 | S14: 19 | T14: 20 | U14: 21
C15: =SUM(D15,M15,O15,S15) -> 15014388 | D15: =SUM(E15,F15,H15,J15) -> 1671372.6 | E15: =SUM(E16:E33) -> 1294023.6 | F15: =SUM(F16:F33) -> 248316 | G15: =SUM(G16:G23) -> 0 | H15: =SUM(H16:H33) -> 129033 | I15: =SUM(I16:I23) -> 0 | J15: =SUM(J16:J33) -> 0 | K15: =SUM(K16:K23) -> 0 | L15: =SUM(L16:L23) -> 3 | M15: =SUM(M16:M23) -> 5334942 | N15: =SUM(N16:N33) -> 5467.7 | O15: =SUM(O16:O33) -> 7599272 | P15: =SUM(P16:P23) -> 0 | Q15: =SUM(Q16:Q23) -> 0 | R15: =SUM(R16:R33) -> 295.6 | S15: =SUM(S16:S33) -> 408801.6 | T15: =SUM(T16:T33) -> 0 | U15: =SUM(U16:U33) -> 0
A16: 1 | B16: Северский район, пгт. Ильский, ул. Партизанская, д. 126 В | C16: 860498 | D16: 0 | E16: 0 | F16: 0 | G16: 0 | H16: 0 | I16: 0 | J16: 0 | K16: 0 | L16: 0 | M16: 0 | N16: 739.7 | O16: 860498 | P16: 0 | Q16: 0 | R16: 0 | S16: 0 | T16: 0 | U16: 0
A17: 2 | B17: Северский район, пгт. Ильский, ул. Первомайская, д. 50 А | C17: 256818 | D17: 256818 | E17: 256818 | F17: 0 | G17: 0 | H17: 0 | I17: 0 | J17: 0 | K17: 0 | L17: 0 | M17: 0 | N17: 0 | O17: 0 | P17: 0 | Q17: 0 | R17: 0 | S17: 0 | T17: 0 | U17: 0
A18: 3 | B18: Северский район, пгт. Афипский, ул. Ленина, д. 2 | C18: 408051 | D18: 0 | E18: 0 | F18: 0 | G18: 0 | H18: 0 | I18: 0 | J18: 0 | K18: 0 | L18: 0 | M18: 0 | N18: 325 | O18: 408051 | P18: 0 | Q18: 0 | R18: 0 | S18: 0 | T18: 0 | U18: 0
A19: 4 | B19: Северский район, пгт. Афипский, ул. Победы, д. 4 | C19: 1776732.4 | D19: 0 | E19: 0 | F19: 0 | G19: 0 | H19: 0 | I19: 0 | J19: 0 | K19: 0 | L19: 1 | M19: 1776732.4 | N19: 0 | O19: 0 | P19: 0 | Q19: 0 | R19: 0 | S19: 0 | T19: 0 | U19: 0
A20: 5 | B20: Северский район, пгт. Афипский, ул. Победы, д. 6 | C20: 1784020 | D20: 0 | E20: 0 | F20: 0 | G20: 0 | H20: 0 | I20: 0 | J20: 0 | K20: 0 | L20: 1 | M20: 1784020 | N20: 0 | O20: 0 | P20: 0 | Q20: 0 | R20: 0 | S20: 0 | T20: 0 | U20: 0
A21: 6 | B21: Северский район, пгт. Афипский, ул. Пушкина, д. 148 | C21: 1774189.6 | D21: 0 | E21: 0 | F21: 0 | G21: 0 | H21: 0 | I21: 0 | J21: 0 | K21: 0 | L21: 1 | M21: 1774189.6 | N21: 0 | O21: 0 | P21: 0 | Q21: 0 | R21: 0 | S21: 0 | T21: 0 | U21: 0
A22: 7 | B22: Северский район, п. Октябрьский, ул. Горького, д. 8 | C22: 529078 | D22: 0 | E22: 0 | F22: 0 | G22: 0 | H22: 0 | I22: 0 | J22: 0 | K22: 0 | L22: 0 | M22: 0 | N22: 494 | O22: 529078 | P22: 0 | Q22: 0 | R22: 0 | S22: 0 | T22: 0 | U22: 0
A23: 8 | B23: Северский район, п. Октябрьский ул. Горького, д. 6 | C23: 480913 | D23: 0 | E23: 0 | F23: 0 | G23: 0 | H23: 0 | I23: 0 | J23: 0 | K23: 0 | L23: 0 | M23: 0 | N23: 487 | O23: 480913 | P23: 0 | Q23: 0 | R23: 0 | S23: 0 | T23: 0 | U23: 0
A24: 9 | B24: Северский район, пгт. Черноморский, ул. Кавказская, д. 9 | C24: 408801.6 | D24: 0 | E24: 0 | F24: 0 | G24: 0 | H24: 0 | I24: 0 | J24: 0 | K24: 0 | L24: 0 | M24: 0 | N24: 0 | O24: 0 | P24: 0 | Q24: 0 | R24: 295.6 | S24: 408801.6 | T24: 0 | U24: 0
A25: 10 | B25: Северский район, пгт. Черноморский, ул. Кавказская, д. 10 | C25: 248316 | D25: =SUM(F25) -> 248316 | E25: 0 | F25: 248316 | G25: 0 | H25: 0 | I25: 0 | J25: 0 | K25: 0 | L25: 0 | M25: 0 | N25: 0 | O25: 0 | P25: 0 | Q25: 0 | R25: 0 | S25: 0 | T25: 0 | U25: 0
A26: 11 | B26: Северский район, пгт. Черноморский, ул. Мира, д. 52 | C26: 418092 | D26: 0 | E26: 0 | F26: 0 | G26: 0 | H26: 0 | I26: 0 | J26: 0 | K26: 0 | L26: 0 | M26: 0 | N26: 329 | O26: =SUM(C26) -> 418092 | P26: 0 | Q26: 0 | R26: 0 | S26: 0 | T26: 0 | U26: 0
A27: 12 | B27: Северский район, пгт. Черноморский, ул. Мира, д. 46 | C27: 393213 | D27: 0 | E27: 0 | F27: 0 | G27: 0 | H27: 0 | I27: 0 | J27: 0 | K27: 0 | L27: 0 | M27: 0 | N27: 329 | O27: =SUM(C27) -> 393213 | P27: 0 | Q27: 0 | R27: 0 | S27: 0 | T27: 0 | U27: 0
A28: 13 | B28: Северский район, пгт. Черноморский, ул. Суворова, д. 44 | C28: 398667 | D28: 0 | E28: 0 | F28: 0 | G28: 0 | H28: 0 | I28: 0 | J28: 0 | K28: 0 | L28: 0 | M28: 0 | N28: 318 | O28: =SUM(C28) -> 398667 | P28: 0 | Q28: 0 | R28: 0 | S28: 0 | T28: 0 | U28: 0
A29: 14 | B29: Северский район, пгт. Черноморский, ул. Юбилейная, д. 102 | C29: 646793 | D29: 0 | E29: 0 | F29: 0 | G29: 0 | H29: 0 | I29: 0 | J29: 0 | K29: 0 | L29: 0 | M29: 0 | N29: 542 | O29: =SUM(C29) -> 646793 | P29: 0 | Q29: 0 | R29: 0 | S29: 0 | T29: 0 | U29: 0
A30: 15 | B30: Северский район, пгт. Черноморский, ул. Юбилейная, д. 104 | C30: 568725 | D30: 0 | E30: 0 | F30: 0 | G30: 0 | H30: 0 | I30: 0 | J30: 0 | K30: 0 | L30: 0 | M30: 0 | N30: 475 | O30: =SUM(C30) -> 568725 | P30: 0 | Q30: 0 | R30: 0 | S30: 0 | T30: 0 | U30: 0
A31: 16 | B31: Северский район, ст-ца Северская, ул. Запорожская, д. 36 | C31: 1076173 | D31: 0 | E31: 0 | F31: 0 | G31: 0 | H31: 0 | I31: 0 | J31: 0 | K31: 0 | L31: 0 | M31: 0 | N31: 556 | O31: =SUM(C31) -> 1076173 | P31: 0 | Q31: 0 | R31: 0 | S31: 0 | T31: 0 | U31: 0
A32: 17 | B32: Северский район, ст-ца Северская, ул. Запорожская, д. 52 | C32: 1037205.6 | D32: 1037205.6 | E32: 1037205.6 | F32: 0 | G32: 0 | H32: 0 | I32: 0 | J32: 0 | K32: 0 | L32: 0 | M32: 0 | N32: 0 | O32: 0 | P32: 0 | Q32: 0 | R32: 0 | S32: 0 | T32: 0 | U32: 0
A33: 18 | B33: Северский район, ст-ца Северская, ул. 50 лет Октября, д. 41 | C33: =SUM(D33,O33) -> 1948102 | D33: =SUM(H33) -> 129033 | E33: 0 | F33: 0 | G33: 0 | H33: 129033 | I33: 0 | J33: 0 | K33: 0 | L33: 0 | M33: 0 | N33: 873 | O33: 1819069 | P33: 0 | Q33: 0 | R33: 0 | S33: 0 | T33: 0 | U33: 0
A39: Заместитель главы администрации
A40: (начальник финансового управления) | N40: Г.В.Витковская

Sheet Приложение 3
A2: Раздел 3. ПРОГНОЗНЫЙ СПИСОК
A3: многоквартирных домов для рассмотрения вопроса о включении в региональный краткосрочный план по плановому периоду 2017 - 2019 годов (этап 2018 года)
A4: по видам работ (услуг), установленным Законом, на территории муниципального образования
A5: Северский район
A7: № п/п | B7: Почтовый адрес многоквартирного дома (далее - МКД) с указанием населенного пункта | C7: Стоимость работ (услуг) по капитальному ремонту (сумма показателей граф 4 и 11) 2) | D7: В том числе
D8: проектирование капитального ремонта МКД, всего (сумма показателей граф 5 - 10) 2) | E8: из них | K8: проведение строительного контроля за оказанием услуг и (или) выполнением работ по капитальному ремонту МКД 2)
E9: оценка технического состояния МКД и составление дефектных ведомостей (ведомостей объемов работ) 2) | F9: оценка соответствия лифтов требованиям Технического регламента 2) | G9: разработка проектной документации на выполнение работ по капитальному ремонту МКД 2) | H9: разработка сметной документации на выполнение работ по капитальному ремонту МКД 2) | I9: проведение экспертизы проектной документации на выполнение работ по капитальному ремонту МКД 2) | J9: проверка достоверности опеределения сметной стоимости капитального ремонта МКД 2)
C12: руб. | D12: руб. | E12: руб. | F12: руб. | G12: руб. | H12: руб. | I12: руб. | J12: руб. | K12: руб.
A13: 1 | B13: 2 | C13: 3 | D13: 4 | E13: 5 | F13: 6 | G13: 7 | H13: 8 | I13: 9 | J13: 10 | K13: 11
A14: ='Приложение 1'!A29:B29 -> Всего по муниципальному образованию Северский район | C14: =SUM(F14:K14) -> 1112122.7 | D14: =SUM(D15:D32) -> 998019 | E14: =SUM(E15:E22) -> 0 | F14: =SUM(F15:F22) -> 90000 | G14: =SUM(G15:G32) -> 728019 | H14: =SUM(H15:H22) -> 0 | I14: =SUM(I15:I22) -> 0 | J14: =SUM(J15:J32) -> 180000 | K14: =SUM(K18:K20) -> 114103.69
A15: 1 | B15: Северский район, пгт. Ильский, ул. Партизанская, д. 126 В | C15: =SUM(D15) -> 60000 | D15: =SUM(E15:J15) -> 60000 | E15: 0 | F15: 0 | G15: 50000 | H15: 0 | I15: 0 | J15: 10000 | K15: 0
A16: 2 | B16: Северский район, пгт. Ильский, ул. Первомайская, д. 50 А | C16: =SUM(D16) -> 27349 | D16: =SUM(E16:J16) -> 27349 | E16: 0 | F16: 0 | G16: 17349 | H16: 0 | I16: 0 | J16: 10000 | K16: 0
A17: 3 | B17: Северский район, пгт. Афипский, ул. Ленина, д. 2 | C17: =SUM(D17) -> 33400 | D17: =SUM(E17:J17) -> 33400 | E17: 0 | F17: 0 | G17: 23400 | H17: 0 | I17: 0 | J17: 10000 | K17: 0
A18: 4 | B18: Северский район, пгт. Афипский, ул. Победы, д. 4 | C18: =SUM(F18:K18) -> 140502.08 | D18: =SUM(E18:J18) -> 102480 | E18: 0 | F18: 30000 | G18: 62480 | H18: 0 | I18: 0 | J18: 10000 | K18: 38022.08
A19: 5 | B19: Северский район, пгт. Афипский, ул. Победы, д. 6 | C19: =SUM(F19:K19) -> 140658.02 | D19: =SUM(E19:J19) -> 102480 | E19: 0 | F19: 30000 | G19: 62480 | H19: 0 | I19: 0 | J19: 10000 | K19: 38178.02
A20: 6 | B20: Северский район, пгт. Афипский, ул. Пушкина, д. 148 | C20: =SUM(F20:K20) -> 132863.59 | D20: =SUM(E20:J20) -> 94960 | E20: 0 | F20: 30000 | G20: 54960 | H20: 0 | I20: 0 | J20: 10000 | K20: 37903.59
A21: 7 | B21: Северский район, п. Октябрьский, ул. Горького, д. 8 | C21: =SUM(G21:J21) -> 45568 | D21: =SUM(E21:J21) -> 45568 | E21: 0 | F21: 0 | G21: 35568 | H21: 0 | I21: 0 | J21: 10000 | K21: 0
A22: 8 | B22: Северский район, п. Октябрьский ул. Горького, д. 6 | C22: =SUM(G22:J22) -> 45064 | D22: =SUM(E22:J22) -> 45064 | E22: 0 | F22: 0 | G22: 35064 | H22: 0 | I22: 0 | J22: 10000 | K22: 0
A23: 9 | B23: Северский район, пгт. Черноморский, ул. Кавказская, д. 9 | C23: =SUM(G23:J23) -> 55226.8 | D23: =SUM(E23:J23) -> 55226.8 | E23: 0 | F23: 0 | G23: 45226.8 | H23: 0 | I23: 0 | J23: 10000 | K23: 0
A24: 10 | B24: Северский район, пгт. Черноморский, ул. Кавказская, д. 10 | C24: =SUM(G24:J24) -> 34235.2 | D24: =SUM(E24:J24) -> 34235.2 | E24: 0 | F24: 0 | G24: 24235.2 | H24: 0 | I24: 0 | J24: 10000 | K24: 0
A25: 11 | B25: Северский район, пгт. Черноморский, ул. Мира, д. 52 | C25: =SUM(G25:J25) -> 33688 | D25: =SUM(E25:J25) -> 33688 | E25: 0 | F25: 0 | G25: 23688 | H25: 0 | I25: 0 | J25: 10000 | K25: 0
A26: 12 | B26: Северский район, пгт. Черноморский, ул. Мира, д. 46 | C26: =SUM(G26:J26) -> 33688 | D26: =SUM(E26:J26) -> 33688 | E26: 0 | F26: 0 | G26: 23688 | H26: 0 | I26: 0 | J26: 10000 | K26: 0
A27: 13 | B27: Северский район, пгт. Черноморский, ул. Суворова, д. 44 | C27: =SUM(G27:J27) -> 32896 | D27: =SUM(G27,J27) -> 32896 | E27: 0 | F27: 0 | G27: 22896 | H27: 0 | I27: 0 | J27: 10000 | K27: 0
A28: 14 | B28: Северский район, пгт. Черноморский, ул. Юбилейная, д. 102 | C28: =SUM(G28:J28) -> 49024 | D28: =SUM(E28:J28) -> 49024 | E28: 0 | F28: 0 | G28: 39024 | H28: 0 | I28: 0 | J28: 10000 | K28: 0
A29: 15 | B29: Северский район, пгт. Черноморский, ул. Юбилейная, д. 104 | C29: =SUM(G29:J29) -> 44200 | D29: =SUM(G29,J29) -> 44200 | E29: 0 | F29: 0 | G29: 34200 | H29: 0 | I29: 0 | J29: 10000 | K29: 0
A30: 16 | B30: Северский район, ст-ца Северская, ул. Запорожская, д. 36 | C30: =SUM(G30:J30) -> 60000 | D30: =SUM(E30:J30) -> 60000 | E30: 0 | F30: 0 | G30: 50000 | H30: 0 | I30: 0 | J30: 10000 | K30: 0
A31: 17 | B31: Северский район, ст-ца Северская, ул. Запорожская, д. 52 | C31: =SUM(G31:J31) -> 60000 | D31: =SUM(E31:J31) -> 60000 | E31: 0 | F31: 0 | G31: 50000 | H31: 0 | I31: 0 | J31: 10000 | K31: 0
A32: 18 | B32: Северский район, ст-ца Северская, ул. 50 лет Октября, д. 41 | C32: =SUM(G32:J32) -> 83760 | D32: =SUM(E32:J32) -> 83760 | E32: 0 | F32: 0 | G32: 73760 | H32: 0 | I32: 0 | J32: 10000 | K32: 0
A38: Заместитель главы администрации
A39: (начальник финансового управленя) | G39: Г.В.Витковская

Sheet приложение 4
A2: Раздел 4. ПЛАНИРУЕМЫЕ ПОКАЗАТЕЛИ
A3: выполнения регионального краткосрочного плана по плановому периоду 2017 - 2019 годов (этап 2018 года) на территории муниципального образования Северский район
A5: № п/п | B5: Наименование муниципального образования (с указанием поселений для муниципальных районов) | C5: Суммарная общая площадь многоквартирных домов (далее -МКД) всего | D5: Количество граждан, зарегистрированных по месту жительства в МКД | E5: Количество МКД | J5: Стоимость капитального ремонта по плановому этапу трехлетнего планового периода
E6: I квартал | F6: II квартал | G6: III квартал | H6: IV квартал | I6: всего | J6: I квартал | K6: II квартал | L6: III квартал | M6: IV квартал | N6: всего
C7: кв. м | D7: чел. | E7: ед. | F7: ед. | G7: ед. | H7: ед. | I7: ед. | J7: руб. | K7: руб. | L7: руб. | M7: руб. | N7: руб.
A8: 1 | B8: 2 | C8: 3 | D8: 4 | E8: 5 | F8: 6 | G8: 7 | H8: 8 | I8: 9 | J8: 10 | K8: 11 | L8: 12 | M8: 13 | N8: 14
A9: Муниципальное образование Северский район | C9: 28780.7 | D9: ='Приложение 1'!G29 -> 785 | E9: 0 | F9: 0 | G9: 0 | H9: 0 | I9: 18 | J9: 0 | K9: 14742002 | L9: 1384508.4 | M9: 0 | N9: ='Приложение 1'!H29 -> 16126511
A13: Заместитель главы администрации | M13: С.Г.Курносов
